BEGIN:VCALENDAR
VERSION:2.0
PRODID:-//ChamberMaster//Event Calendar 2.0//EN
METHOD:PUBLISH
X-PUBLISHED-TTL:P3D
REFRESH-INTERVAL:P3D
CALSCALE:GREGORIAN
BEGIN:VEVENT
DTSTART:20261114T120000Z
DTEND:20261114T133000Z
X-MICROSOFT-CDO-ALLDAYEVENT:FALSE
SUMMARY:Race for Education 5K Run/Walk
DESCRIPTION:
X-ALT-DESC;FMTTYPE=text/html:
LOCATION:Tradewinds Park 3600 W. Sample Rd.\, Coconut Creek \, FL 33073
UID:e.52.19930
SEQUENCE:3
DTSTAMP:20260423T111728Z
URL:https://csccrc-gzcms.preview.gochambermaster.com/events/details/race-for-education-5k-run-walk-19930
END:VEVENT

END:VCALENDAR
